BEGIN:VCALENDAR
VERSION:2.0
PRODID:icalendar-ruby
CALSCALE:GREGORIAN
METHOD:PUBLISH
BEGIN:VEVENT
DTSTAMP:20260421T024222Z
UID:6-542153@refugechurchelyria.com
DTSTART:20260930T223000Z
DTEND:20261001T003000Z
CLASS:PUBLIC
CREATED:20260420T204137
DESCRIPTION:
LAST-MODIFIED:20260420T204137
LOCATION:7942 Murray Ridge Road
SUMMARY:Life Groups
URL;VALUE=URI:https://www.refugechurchelyria.com/events/life-groups/2026-09
 -30
ATTACH;FILENAME=gCIW.jpg;FMTTYPE=image/jpeg:https://dq5pwpg1q8ru0.cloudfron
 t.net/2025/02/21/17/38/40/c9ffcd82-caa9-401e-b0e5-9ada8b79e786/gCIW.jpg
END:VEVENT
END:VCALENDAR
