BEGIN:VCALENDAR
VERSION:2.0
PRODID:icalendar-ruby
CALSCALE:GREGORIAN
METHOD:PUBLISH
BEGIN:VEVENT
DTSTAMP:20260420T143647Z
UID:5-540304@refugechurchelyria.com
DTSTART:20260802T140000Z
DTEND:20260802T150000Z
CLASS:PUBLIC
CREATED:20260420T102206
DESCRIPTION:Sunday Worship
LAST-MODIFIED:20260420T102206
LOCATION:
SUMMARY:Sunday Worship
URL;VALUE=URI:https://www.refugechurchelyria.com/events/sunday-worship/2026
 -08-02
END:VEVENT
END:VCALENDAR
