BEGIN:VCALENDAR
VERSION:2.0
PRODID:icalendar-ruby
CALSCALE:GREGORIAN
METHOD:PUBLISH
BEGIN:VEVENT
DTSTAMP:20260420T200136Z
UID:5-541184@refugechurchelyria.com
DTSTART:20260830T140000Z
DTEND:20260830T150000Z
CLASS:PUBLIC
CREATED:20260420T153045
DESCRIPTION:Sunday Worship
LAST-MODIFIED:20260420T153045
LOCATION:
SUMMARY:Sunday Worship
URL;VALUE=URI:https://www.refugechurchelyria.com/events/sunday-worship/2026
 -08-30
END:VEVENT
END:VCALENDAR
